BEGIN:VCALENDAR
VERSION:2.0
PRODID:-//FAPEO - ECPv6.6.4.2//NONSGML v1.0//EN
CALSCALE:GREGORIAN
METHOD:PUBLISH
X-ORIGINAL-URL:https://www.fapeo.be
X-WR-CALDESC:évènements pour FAPEO
REFRESH-INTERVAL;VALUE=DURATION:PT1H
X-Robots-Tag:noindex
X-PUBLISHED-TTL:PT1H
BEGIN:VTIMEZONE
TZID:UTC
BEGIN:STANDARD
TZOFFSETFROM:+0000
TZOFFSETTO:+0000
TZNAME:UTC
DTSTART:20160101T000000
END:STANDARD
END:VTIMEZONE
BEGIN:VEVENT
DTSTART;TZID=UTC:20161016T100000
DTEND;TZID=UTC:20161016T160000
DTSTAMP:20260426T003520
CREATED:20160901T114458Z
LAST-MODIFIED:20160901T114458Z
UID:10284-1476612000-1476633600@www.fapeo.be
SUMMARY:APARC - Foire aux livres et aux BD's
DESCRIPTION:
URL:https://www.fapeo.be/event/aparc-foire-aux-livres-et-aux-bds/
LOCATION:Athénée Royal de Chenée\, rue Bourdon 32\, Liège
CATEGORIES:Activités AP Liège
END:VEVENT
END:VCALENDAR