BEGIN:VCALENDAR
VERSION:2.0
PRODID:-//FAPEO - ECPv6.6.4.2//NONSGML v1.0//EN
CALSCALE:GREGORIAN
METHOD:PUBLISH
X-WR-CALNAME:FAPEO
X-ORIGINAL-URL:https://www.fapeo.be
X-WR-CALDESC:évènements pour FAPEO
REFRESH-INTERVAL;VALUE=DURATION:PT1H
X-Robots-Tag:noindex
X-PUBLISHED-TTL:PT1H
BEGIN:VTIMEZONE
TZID:UTC
BEGIN:STANDARD
TZOFFSETFROM:+0000
TZOFFSETTO:+0000
TZNAME:UTC
DTSTART:20160101T000000
END:STANDARD
END:VTIMEZONE
BEGIN:VEVENT
DTSTART;TZID=UTC:20161117T190000
DTEND;TZID=UTC:20161117T210000
DTSTAMP:20260425T214243
CREATED:20161115T090052Z
LAST-MODIFIED:20161115T090052Z
UID:10532-1479409200-1479416400@www.fapeo.be
SUMMARY:Rencontre : Une école gratuite ? Non peut-être !
DESCRIPTION:  \nInscriptions souhaitées au 02/527.25.75 ou par mail bruxelles@fapeo.be \nAccessibilité : \n– Bus 80 et 36\, arrêt Leman (3 min)\n– Bus 22 et 27\, arrêt Gaulois (6 min)\n– Tram 81\, arrêt Place St Pierre ou Acacias (5 min)\n– Métro\, arrêt Mérode (12 min) \nD’autres informations sur l’évènement Facebook\nMerci de transmettre l’information le plus largement possible. \nEn espérant que vous aurez la possibilité de vous joindre à nous\, \nLa Régionale de Bruxelles \n  \n  \n  \n 
URL:https://www.fapeo.be/event/rencontre-une-ecole-gratuite-non-peut-etre/
LOCATION:Bruxelles
CATEGORIES:Activités AP Bruxelles
END:VEVENT
END:VCALENDAR