BEGIN:VCALENDAR
VERSION:2.0
PRODID:-//FAPEO - ECPv6.6.4.2//NONSGML v1.0//EN
CALSCALE:GREGORIAN
METHOD:PUBLISH
X-WR-CALNAME:FAPEO
X-ORIGINAL-URL:https://www.fapeo.be
X-WR-CALDESC:évènements pour FAPEO
REFRESH-INTERVAL;VALUE=DURATION:PT1H
X-Robots-Tag:noindex
X-PUBLISHED-TTL:PT1H
BEGIN:VTIMEZONE
TZID:UTC
BEGIN:STANDARD
TZOFFSETFROM:+0000
TZOFFSETTO:+0000
TZNAME:UTC
DTSTART:20170101T000000
END:STANDARD
END:VTIMEZONE
BEGIN:VEVENT
DTSTART;TZID=UTC:20170320T193000
DTEND;TZID=UTC:20170320T220000
DTSTAMP:20260425T163656
CREATED:20170314T130852Z
LAST-MODIFIED:20170314T130852Z
UID:10863-1490038200-1490047200@www.fapeo.be
SUMMARY:AG de la Région de Liège
DESCRIPTION:  \n \nToutes les informations sur l’évènement : Convocation à l’AG régionale 2017 de Liège \nLe PV de l’AG 2016 : PV AG Liège 2016
URL:https://www.fapeo.be/event/ag-de-la-region-de-liege/
LOCATION:Athénée Royal de Chênée\, Rue Bourdon 32\, Liège\, 4032
CATEGORIES:Evénements à venir Liège
END:VEVENT
END:VCALENDAR