BEGIN:VCALENDAR
VERSION:2.0
PRODID:-//FAPEO - ECPv6.6.4.2//NONSGML v1.0//EN
CALSCALE:GREGORIAN
METHOD:PUBLISH
X-WR-CALNAME:FAPEO
X-ORIGINAL-URL:https://www.fapeo.be
X-WR-CALDESC:évènements pour FAPEO
REFRESH-INTERVAL;VALUE=DURATION:PT1H
X-Robots-Tag:noindex
X-PUBLISHED-TTL:PT1H
BEGIN:VTIMEZONE
TZID:UTC
BEGIN:STANDARD
TZOFFSETFROM:+0000
TZOFFSETTO:+0000
TZNAME:UTC
DTSTART:20180101T000000
END:STANDARD
END:VTIMEZONE
BEGIN:VEVENT
DTSTART;TZID=UTC:20180507T180000
DTEND;TZID=UTC:20180507T210000
DTSTAMP:20260423T112539
CREATED:20180411T064811Z
LAST-MODIFIED:20180411T064811Z
UID:11685-1525716000-1525726800@www.fapeo.be
SUMMARY:Concertation entre la FAPEO\, les associations de parents de la ville de Liège (communales) et l’échevin de l’Instruction publique et des Travaux
DESCRIPTION:  \n  \nConcerne les Associations de parents de la Ville de Liège (écoles communales) \nLa FAPEO\, vous informe qu’une concertation avec Monsieur Stassart\, Échevin de l’instruction publique et Monsieur Léonard\, Échevin des travaux se tiendra le lundi 07 mai à 18h\, dans les locaux du Cabinet\, quai de la Batte\, n°10\, 4000 Liège. \nEn tant qu’association de parents\, il est essentiel de pouvoir échanger avec le Pouvoir Organisateur de votre école sur les sujets qui vous préoccupent. \nAfin de pouvoir vous permettre de vous exprimer\, la présence de votre association de parents est importante. \n 
URL:https://www.fapeo.be/event/concertation-entre-la-fapeo-les-associations-de-parents-de-la-ville-de-liege-communales-et-lechevin-de-linstruction-publique-et-des-travaux/
LOCATION:Bruxelles
CATEGORIES:Activités AP Liège
ATTACH;FMTTYPE=:
END:VEVENT
END:VCALENDAR