BEGIN:VCALENDAR
VERSION:2.0
PRODID:-//FAPEO - ECPv6.6.4.2//NONSGML v1.0//EN
CALSCALE:GREGORIAN
METHOD:PUBLISH
X-WR-CALNAME:FAPEO
X-ORIGINAL-URL:https://www.fapeo.be
X-WR-CALDESC:évènements pour FAPEO
REFRESH-INTERVAL;VALUE=DURATION:PT1H
X-Robots-Tag:noindex
X-PUBLISHED-TTL:PT1H
BEGIN:VTIMEZONE
TZID:UTC
BEGIN:STANDARD
TZOFFSETFROM:+0000
TZOFFSETTO:+0000
TZNAME:UTC
DTSTART:20160101T000000
END:STANDARD
END:VTIMEZONE
BEGIN:VEVENT
DTSTART;VALUE=DATE:20160404
DTEND;VALUE=DATE:20160409
DTSTAMP:20260424T051626
CREATED:20160107T093141Z
LAST-MODIFIED:20160107T093141Z
UID:9493-1459728000-1460159999@www.fapeo.be
SUMMARY:Sciences en famille : Stage d'éveil
DESCRIPTION:
URL:https://www.fapeo.be/event/sciences-en-famille-stage-deveil/
LOCATION:Lieu sans nom\, Rue Warocqué 124\, La Louvière\, 7100
CATEGORIES:Evénements à venir Hainaut
END:VEVENT
BEGIN:VEVENT
DTSTART;TZID=UTC:20160414T183000
DTEND;TZID=UTC:20160414T210000
DTSTAMP:20260424T051626
CREATED:20160325T100548Z
LAST-MODIFIED:20160325T100548Z
UID:9792-1460658600-1460667600@www.fapeo.be
SUMMARY:INTER AP HAINAUT - Région du Centre
DESCRIPTION:Jeudi 14 avril 2016 à 18h30 pour la région du centre à l’école communale primaire « La Drève »\, ruelle Vanhulst 15 \, 7170 – LA HESTRE.\nNotre souhait est de mettre\, dans la durée\, en relation différentes associations de parents d’une même région afin que celles-ci puissent faire connaissance\, partager leurs projets\, échanger des bons plans\, discuter sur des sujets qui les occupent\,… \nOrdre du jour : \n\nRetour sur l’Apéro Pacte (le rapport sera envoyé début de semaine prochaine J)\nMoment d’échange\, tour de table sur les projets des AP\nPrésentation d’outil pour créer un projet de groupe\n…\n\nPour une bonne organisation\, pourriez-vous me confirmer votre présence à hainaut@fapeo.be?
URL:https://www.fapeo.be/event/inter-ap-hainaut-region-du-centre/
CATEGORIES:Activités AP,Activités AP Hainaut,Evénements à venir Hainaut
ATTACH;FMTTYPE=:
END:VEVENT
BEGIN:VEVENT
DTSTART;VALUE=DATE:20160416
DTEND;VALUE=DATE:20160417
DTSTAMP:20260424T051626
CREATED:20160107T092714Z
LAST-MODIFIED:20160107T092714Z
UID:9491-1460764800-1460851199@www.fapeo.be
SUMMARY:Sciences en famille : Ateliers scientifiques
DESCRIPTION:
URL:https://www.fapeo.be/event/sciences-en-famille-ateliers-scientifiques-3/
LOCATION:Lieu sans nom\, Rue Warocqué 124\, La Louvière\, 7100
CATEGORIES:Evénements à venir Hainaut
END:VEVENT
BEGIN:VEVENT
DTSTART;TZID=UTC:20160419T190000
DTEND;TZID=UTC:20160419T213000
DTSTAMP:20260424T051626
CREATED:20160325T101616Z
LAST-MODIFIED:20160325T101616Z
UID:9797-1461092400-1461101400@www.fapeo.be
SUMMARY:Inter AP Hainaut - Région de Mons
DESCRIPTION:Inter AP le 19 avril 2016 à 19h à l’Athénée Royal de Mons l’’Athénée Royal de MONS\, rue de l’Athénée\, n°4\, 47000 MONS.\nNotre souhait est de mettre\, dans la durée\, en relation différentes associations de parents d’une même région afin que celles-ci puissent faire connaissance\, partager leurs projets\, échanger des bons plans\, discuter sur des sujets qui les occupent\,… \nA l’ordre du jour : \n\nRetour sur l’Apéro-pacte du 25 février.\n\n\nMoment d’échange entre associations de parents sur vos projets / vos difficultés / vos bon-plans\n\n\nPrésentation d’un outil pour créer un projet de groupe\n\n\nQuelles priorités pour 2016 ?\n\n\nFixer un agenda des prochaines rencontres Inter AP\n\n\nDivers\n\nPour une bonne organisation\, pourriez-vous me confirmer votre présence à hainaut@fapeo.be?
URL:https://www.fapeo.be/event/inter-ap-hainaut-mons/
LOCATION:l’Athénée royal de Mons 1\, rue de l'Athénée\, 4\, Mons\, 7000
CATEGORIES:Activités AP,Activités AP Hainaut,Evénements à venir Hainaut
ATTACH;FMTTYPE=:
END:VEVENT
END:VCALENDAR