BEGIN:VCALENDAR
VERSION:2.0
PRODID:-//FAPEO - ECPv6.6.4.2//NONSGML v1.0//EN
CALSCALE:GREGORIAN
METHOD:PUBLISH
X-ORIGINAL-URL:https://www.fapeo.be
X-WR-CALDESC:évènements pour FAPEO
REFRESH-INTERVAL;VALUE=DURATION:PT1H
X-Robots-Tag:noindex
X-PUBLISHED-TTL:PT1H
BEGIN:VTIMEZONE
TZID:UTC
BEGIN:STANDARD
TZOFFSETFROM:+0000
TZOFFSETTO:+0000
TZNAME:UTC
DTSTART:20160101T000000
END:STANDARD
END:VTIMEZONE
BEGIN:VEVENT
DTSTART;VALUE=DATE:20160123
DTEND;VALUE=DATE:20160124
DTSTAMP:20260424T135549
CREATED:20160107T091554Z
LAST-MODIFIED:20160107T091554Z
UID:9477-1453507200-1453593599@www.fapeo.be
SUMMARY:Sciences en famille : ateliers scientifiques
DESCRIPTION:
URL:https://www.fapeo.be/event/sciences-en-famille-ateliers-scientifiques/
LOCATION:Lieu sans nom\, Rue Warocqué 124\, La Louvière\, 7100
CATEGORIES:Evénements à venir Hainaut
END:VEVENT
END:VCALENDAR