BEGIN:VCALENDAR
VERSION:2.0
PRODID:-//FAPEO - ECPv6.6.4.2//NONSGML v1.0//EN
CALSCALE:GREGORIAN
METHOD:PUBLISH
X-WR-CALNAME:FAPEO
X-ORIGINAL-URL:https://www.fapeo.be
X-WR-CALDESC:évènements pour FAPEO
REFRESH-INTERVAL;VALUE=DURATION:PT1H
X-Robots-Tag:noindex
X-PUBLISHED-TTL:PT1H
BEGIN:VTIMEZONE
TZID:UTC
BEGIN:STANDARD
TZOFFSETFROM:+0000
TZOFFSETTO:+0000
TZNAME:UTC
DTSTART:20160101T000000
END:STANDARD
END:VTIMEZONE
BEGIN:VEVENT
DTSTART;TZID=UTC:20161117T190000
DTEND;TZID=UTC:20161117T210000
DTSTAMP:20260425T195143
CREATED:20161115T090052Z
LAST-MODIFIED:20161115T090052Z
UID:10532-1479409200-1479416400@www.fapeo.be
SUMMARY:Rencontre : Une école gratuite ? Non peut-être !
DESCRIPTION:  \nInscriptions souhaitées au 02/527.25.75 ou par mail bruxelles@fapeo.be \nAccessibilité : \n– Bus 80 et 36\, arrêt Leman (3 min)\n– Bus 22 et 27\, arrêt Gaulois (6 min)\n– Tram 81\, arrêt Place St Pierre ou Acacias (5 min)\n– Métro\, arrêt Mérode (12 min) \nD’autres informations sur l’évènement Facebook\nMerci de transmettre l’information le plus largement possible. \nEn espérant que vous aurez la possibilité de vous joindre à nous\, \nLa Régionale de Bruxelles \n  \n  \n  \n 
URL:https://www.fapeo.be/event/rencontre-une-ecole-gratuite-non-peut-etre/
LOCATION:Bruxelles
CATEGORIES:Activités AP Bruxelles
END:VEVENT
BEGIN:VEVENT
DTSTART;TZID=UTC:20161120T090000
DTEND;TZID=UTC:20161120T140000
DTSTAMP:20260425T195143
CREATED:20161011T080152Z
LAST-MODIFIED:20161011T080152Z
UID:10437-1479632400-1479650400@www.fapeo.be
SUMMARY:APE - ARA : Brocante couverte
DESCRIPTION:
URL:https://www.fapeo.be/event/ape-ara-brocante-couverte/
LOCATION:Bruxelles
CATEGORIES:Activités AP Bruxelles,Evénements à venir à Bruxelles
END:VEVENT
BEGIN:VEVENT
DTSTART;TZID=UTC:20161127T090000
DTEND;TZID=UTC:20161127T123000
DTSTAMP:20260425T195143
CREATED:20161108T090309Z
LAST-MODIFIED:20161108T090309Z
UID:10521-1480237200-1480249800@www.fapeo.be
SUMMARY:Brocante aux jouets - AP Chenois
DESCRIPTION:
URL:https://www.fapeo.be/event/brocante-aux-jouets-ap-chenois/
LOCATION:Ecole du Chenois\, Rue Mattot 135\, Waterloo
CATEGORIES:Activités AP Brabant-Wallon
END:VEVENT
BEGIN:VEVENT
DTSTART;TZID=UTC:20161127T100000
DTEND;TZID=UTC:20161127T180000
DTSTAMP:20260425T195143
CREATED:20161027T100758Z
LAST-MODIFIED:20161027T100758Z
UID:10485-1480240800-1480269600@www.fapeo.be
SUMMARY:Les Rencontres "Jeu t'aime"
DESCRIPTION:Venez jouer en famille lors de la 6ème édition des Rencontres « Jeu t’aime » le dimanche 27 novembre. Cette année\, 9 villes participent à l’événement : Bruxelles\, Charleroi\, Liège\, Limbourg\, Mons\, Mouscron\, Neufchâteau\, Ottignies et Tournai. \nAu programme : Jeux géants\, jeux de plateau\, coin lecture\, espace pour tout-petits… Chaque ville proposera sa propre version des Rencontres. Le programme par ville est à découvrir ici  \nCette journée prend place dans le cadre de la campagne « Jeu t’aime »​ qui vise à redonner aux parents l’envie de jouer avec leurs enfants. \n  \n \n  \n  \n  \n  \n  \n  \n  \n  \n  \n  \n  \n  \n  \n  \n  \n  \n  \n  \n  \n  \n  \n  \n  \n  \n  \n  \n  \n  \n  \n  \n  \n  \n  \n  \n  \nMarchés gratuits du jeu et du jouet \nA cette occasion\, un marché gratuit du jeu et du jouet est organisé dans 5 des 9 villes participantes : Bruxelles\, Limbourg\, Mons\, Mouscron et Neufchâteau \nLe principe : Chacun est invité à donner les jeux\, jouets\, déguisements…délaissés par ses enfants et le 27 novembre\, les enfants emportent le ou les jeux de leur choix. Un projet qui soutient une consommation alternative basée sur le don et la réutilisation de biens. \nToutes les infos sont à découvrir ici\nToutes les informations sur la journée 
URL:https://www.fapeo.be/event/les-rencontres-jeu-taime/
LOCATION:Bruxelles
CATEGORIES:Evénements à venir à Bruxelles,Evénements à venir Brabant-Wallon,Evénements à venir Hainaut,Evénements à venir Liège,Evénements à venir Luxembourg,Evénements à venir Namur
END:VEVENT
BEGIN:VEVENT
DTSTART;TZID=UTC:20161128T140000
DTEND;TZID=UTC:20161128T170000
DTSTAMP:20260425T195143
CREATED:20161103T103739Z
LAST-MODIFIED:20161103T103739Z
UID:10503-1480341600-1480352400@www.fapeo.be
SUMMARY:50 ans - La FAPEO interpelle les députés
DESCRIPTION: 
URL:https://www.fapeo.be/event/50-ans-la-fapeo-interpelle-les-deputes/
LOCATION:Bruxelles
CATEGORIES:Activités AP,Conférences/Colloques/Journées d'études,Evénements à venir à Bruxelles
END:VEVENT
END:VCALENDAR