BEGIN:VCALENDAR
VERSION:2.0
PRODID:-//FAPEO - ECPv6.6.4.2//NONSGML v1.0//EN
CALSCALE:GREGORIAN
METHOD:PUBLISH
X-WR-CALNAME:FAPEO
X-ORIGINAL-URL:https://www.fapeo.be
X-WR-CALDESC:évènements pour FAPEO
REFRESH-INTERVAL;VALUE=DURATION:PT1H
X-Robots-Tag:noindex
X-PUBLISHED-TTL:PT1H
BEGIN:VTIMEZONE
TZID:UTC
BEGIN:STANDARD
TZOFFSETFROM:+0000
TZOFFSETTO:+0000
TZNAME:UTC
DTSTART:20170101T000000
END:STANDARD
END:VTIMEZONE
BEGIN:VEVENT
DTSTART;TZID=UTC:20170908T110000
DTEND;TZID=UTC:20170908T220000
DTSTAMP:20260424T124128
CREATED:20170901T055526Z
LAST-MODIFIED:20170901T055526Z
UID:11280-1504868400-1504908000@www.fapeo.be
SUMMARY:Rentrée libre
DESCRIPTION:RENTRÉE LIBRE \n\n\nEn cette période de pause estivale\, il est bon de rappeler que l’enseignement est un pilier de notre démocratie. Dès lors\, l’école devrait être ce havre de paix où les enfants peuvent développer le sens de la curiosité\, la soif de savoir\, le plaisir d’apprendre ensemble\, la connaissance de l’autre. Ces apprentissages forment un trésor inestimable que chaque jeune devrait pouvoir développer et partager tout au long de la vie. Le monde n’étant pas idéal\, nous sommes conscients des difficultés que rencontrent parfois les enseignants et leurs élèves. Avec tous les partenaires qui entourent l’enfant\, nous voulons rencontrer le besoin urgent de prêter main forte aux pédagogues et parents de notre quartier par le biais d’un espace de libertés tel que « Le Gai Savoir\, école de devoirs ». Ainsi\, dès le plus jeune âge\, nos enfants auront les moyens de nourrir leur esprit critique et leur réflexion propre pour pouvoir embrasser la cité…ou l’embraser si nécessaire. Rejoignez-nous pour fêter avec vigueur la jeunesse et le savoir. Nous sommes tous concernés\, nous sommes tous impliqués. \n\nTélécharger le programme : Flyer Cal Rentree libre
URL:https://www.fapeo.be/event/rentree-libre/
LOCATION:Centre d’Action Laîque\, rue de Gembloux 48\, Namur\, 5000
END:VEVENT
END:VCALENDAR