BEGIN:VCALENDAR
VERSION:2.0
PRODID:-//FAPEO - ECPv6.6.4.2//NONSGML v1.0//EN
CALSCALE:GREGORIAN
METHOD:PUBLISH
X-WR-CALNAME:FAPEO
X-ORIGINAL-URL:https://www.fapeo.be
X-WR-CALDESC:évènements pour FAPEO
REFRESH-INTERVAL;VALUE=DURATION:PT1H
X-Robots-Tag:noindex
X-PUBLISHED-TTL:PT1H
BEGIN:VTIMEZONE
TZID:UTC
BEGIN:STANDARD
TZOFFSETFROM:+0000
TZOFFSETTO:+0000
TZNAME:UTC
DTSTART:20180101T000000
END:STANDARD
END:VTIMEZONE
BEGIN:VEVENT
DTSTART;TZID=UTC:20180205T200000
DTEND;TZID=UTC:20180205T213000
DTSTAMP:20260423T222459
CREATED:20180129T133811Z
LAST-MODIFIED:20180129T133811Z
UID:11507-1517860800-1517866200@www.fapeo.be
SUMMARY:Conférence gratuite : « Souffrances dans la cour de l'école : mieux armer les enfants contre le harcèlement »
DESCRIPTION:Lundi 5 février 2018 • de 20 à 21 h 30 • HERVE \n« Souffrances dans la cour de l’école : mieux armer les enfants contre le harcèlement » par Emmanuelle PIQUET\, psycho-praticienne en thérapie brève et stratégique et fondatrice des centres de consultation « À 180 degrés » et « Chagrin Scolaire ». Auteur de plusieurs livres et de nombreux articles – France. \n↘ Espace Georges Dechamps | Place de l’Hôtel de Ville\, 18 – 4650 HERVE \nRésumé de la conférence :\nDès la fin du primaire et plus fréquemment encore au collège\, certains enfants sont pris dans l’horrible cercle vicieux du harcèlement. Démunis\, ils ne se sentent souvent aidés\, ni par l’institution\, ni par les adultes. Pourtant\, le remarquable pragmatisme de la thérapie brève issue de l’école de Palo Alto peut\, en quelques séances\, leur fournir les outils relationnels pour que leur souffrance s’apaise. C’est ce qu’illustre cette conférence qui s’appuye sur des exemples concrets de la pratique clinique.\n \nInformation(s) pratique(s)\nConférences gratuites et ouvertes à tous\, sur inscription au 04/237 93 36 ou via mail à frederic.lekeu@provincedeliege.be\nSite :  http://www.provincedeliege.be/fr/evenement/69/12917
URL:https://www.fapeo.be/event/conference-gratuite-souffrances-dans-la-cour-de-lecole-mieux-armer-les-enfants-contre-le-harcelement/
LOCATION:Espace Georges Dechamps\, Place de l'Hôtel de Ville\, 18 \, Place de l'Hôtel de Ville\, 18 - 4650 HERVE\,  4650 HERVE\,  4650\, Belgique
CATEGORIES:Evénements à venir Liège
END:VEVENT
BEGIN:VEVENT
DTSTART;TZID=UTC:20180222T190000
DTEND;TZID=UTC:20180222T220000
DTSTAMP:20260423T222459
CREATED:20180211T173054Z
LAST-MODIFIED:20180211T173054Z
UID:11546-1519326000-1519336800@www.fapeo.be
SUMMARY:Cours de Philosophie et Citoyenneté: pourquoi et comment (Soignies)
DESCRIPTION:
URL:https://www.fapeo.be/event/conf-cpc-soignies/
LOCATION:Maison de la Laïcité de Soignies\, Rue Mademoiselle Hannicq\, 1\, Soignies\, 7060\, Belgique
CATEGORIES:Conférences/Colloques/Journées d'études,Evénements à venir Hainaut
ORGANIZER;CN="ML Soignies":MAILTO:j.rondeaux@belgacom.net
END:VEVENT
BEGIN:VEVENT
DTSTART;TZID=UTC:20180226T200000
DTEND;TZID=UTC:20180226T220000
DTSTAMP:20260423T222459
CREATED:20180211T174939Z
LAST-MODIFIED:20180211T174939Z
UID:11553-1519675200-1519682400@www.fapeo.be
SUMMARY:Vous avez dit Pacte d'Excellence ?
DESCRIPTION:
URL:https://www.fapeo.be/event/pacte-excellence-ath/
LOCATION:Maison de la Laïcité d’Ath\, Rue de la Poterne\, 1\, Ath\, 7800\, Belgique
CATEGORIES:Conférences/Colloques/Journées d'études,Evénements à venir Hainaut
END:VEVENT
END:VCALENDAR