BEGIN:VCALENDAR
VERSION:2.0
PRODID:-//FAPEO - ECPv6.6.4.2//NONSGML v1.0//EN
CALSCALE:GREGORIAN
METHOD:PUBLISH
X-ORIGINAL-URL:https://www.fapeo.be
X-WR-CALDESC:évènements pour FAPEO
REFRESH-INTERVAL;VALUE=DURATION:PT1H
X-Robots-Tag:noindex
X-PUBLISHED-TTL:PT1H
BEGIN:VTIMEZONE
TZID:UTC
BEGIN:STANDARD
TZOFFSETFROM:+0000
TZOFFSETTO:+0000
TZNAME:UTC
DTSTART:20180101T000000
END:STANDARD
END:VTIMEZONE
BEGIN:VEVENT
DTSTART;TZID=UTC:20180918T173000
DTEND;TZID=UTC:20180918T220000
DTSTAMP:20260423T022405
CREATED:20180827T105341Z
LAST-MODIFIED:20180827T105341Z
UID:11862-1537291800-1537308000@www.fapeo.be
SUMMARY:Apéro politique - 20 minutes pour convaincre ! - Liège
DESCRIPTION:  \n \n  \n  \nÀ quelques semaines des élections communales\, venez échanger avec les candidat·e·s de différentes partis représentés à Liège\, sur la thématique qui vous intéresse. Résultat : 20 minutes pour vous convaincre ! \nUn apéro politique pour un échange direct entre citoyen·ne·s et représentant·e·s politiques\, à travers des tables rondes proposées autour des revendications portées par différentes associations liégeoises. \nUne occasion d’entendre l’avis des candidat·e·s de différents partis représentés à Liège\, sur la thématique qui vous intéresse : \n– Budgets et comptes communaux\n– Commerce équitable et achats durables\n– Enseignement\n– Logement\n– Migrations – commune hospitalière \nLa FAPEO sera présente et animera la table « Enseignement » : venez discuter du projet porté par les candidat·e·s pour l’enseignement organisé au niveau communal liégeois. \nChoisissez votre table pour la soirée.Les représentant·e·s des différents partis passeront de table en table pour\néchanger avec vous… Chaque candidat-e aura 20 minutes pour vous convaincre ! \nLa soirée aura lieu le 18 septembre de17h30 à 22h au C entre Culturel des Chiroux\, Place des\ncarmes 8 à 4000 Liège\, apéro et sandwich offerts\, gratuit sur inscription à l’adresse suivante : https://crm.cncd.be/formulaires/apero-politique-du-18-septembre-liege
URL:https://www.fapeo.be/event/apero-politique-20-minutes-pour-convaincre-liege/
LOCATION:Bruxelles
CATEGORIES:Evénements à venir Liège
END:VEVENT
BEGIN:VEVENT
DTSTART;TZID=UTC:20180920T183000
DTEND;TZID=UTC:20180920T210000
DTSTAMP:20260423T022405
CREATED:20180827T101740Z
LAST-MODIFIED:20180827T101740Z
UID:11857-1537468200-1537477200@www.fapeo.be
SUMMARY:Apéro politique - 20 minutes pour convaincre ! - Bruxelles
DESCRIPTION:
URL:https://www.fapeo.be/event/apero-politique-bxl/
LOCATION:Bruxelles
CATEGORIES:Evénements à venir à Bruxelles
END:VEVENT
BEGIN:VEVENT
DTSTART;VALUE=DATE:20180922
DTEND;VALUE=DATE:20180923
DTSTAMP:20260423T022405
CREATED:20180820T095514Z
LAST-MODIFIED:20180820T095514Z
UID:11842-1537574400-1537660799@www.fapeo.be
SUMMARY:Journée des Familles 2018 - Inclusion asbl
DESCRIPTION:  \n  \n  \n 
URL:https://www.fapeo.be/event/journee-des-familles-2018-inclusion-asbl/
LOCATION:Ferme Monceau\, Avenue Albert Giraud 24\, Bruxelles\, 1030\, Belgique
CATEGORIES:Evénements à venir à Bruxelles
END:VEVENT
BEGIN:VEVENT
DTSTART;TZID=UTC:20180925T180000
DTEND;TZID=UTC:20180925T223000
DTSTAMP:20260423T022405
CREATED:20180913T123628Z
LAST-MODIFIED:20180913T123628Z
UID:11898-1537898400-1537914600@www.fapeo.be
SUMMARY:Apéro Politique - Élections Communales @Namur
DESCRIPTION:À quelques semaines des élections communales\, venez échanger avec les candidat.e.s de différents partis se présentant à Namur\, sur la thématique qui vous intéresse ! \n\n\nVenez rencontrer et questionner vos candidat.e.s aux élections communales sur six sujets différents ! \nLes débats\n\nParticipation citoyenne et finance éthique\nMobilité\nSolidarité internationale\nMarchés publics et commerce équitable\nLogement\nEcole\n\nProgramme\n18h Accueil \n18h30 Préparation aux tables : choix des questions\, … \n19h Arrivée des représentants politiques et mot d’accueil \n19h15 Premier tour de discussion \n20h Deuxième tour de discussion \n20h45 Troisième tour de discussion \n21h30 Évaluation aux tables par écrit \n21h45 Conclusion et mot de la fin \n21h55 Bar ouvert et mot de la fin \n22h30 Fin \n  \n\nS’inscrire – Voir le lien de l’évènement \nEntrée libre
URL:https://www.fapeo.be/event/apero-politique-namur/
LOCATION:CPAS de Namur\, Rue de Dave 165\, Jambes\, 5100\, Belgique
CATEGORIES:Evénements à venir Namur
END:VEVENT
BEGIN:VEVENT
DTSTART;TZID=UTC:20180926T183000
DTEND;TZID=UTC:20180926T220000
DTSTAMP:20260423T022405
CREATED:20180829T080321Z
LAST-MODIFIED:20180829T080321Z
UID:11878-1537986600-1537999200@www.fapeo.be
SUMMARY:Soirée élections @Charleroi
DESCRIPTION:
URL:https://www.fapeo.be/event/soiree-elections-charleroi/
LOCATION:école du Roton\, Rue Nouvelle 1\, Charleroi\, 6000\, Belgique
CATEGORIES:Activités AP Hainaut
END:VEVENT
END:VCALENDAR