BEGIN:VCALENDAR
VERSION:2.0
PRODID:-//FAPEO - ECPv6.6.4.2//NONSGML v1.0//EN
CALSCALE:GREGORIAN
METHOD:PUBLISH
X-WR-CALNAME:FAPEO
X-ORIGINAL-URL:https://www.fapeo.be
X-WR-CALDESC:évènements pour FAPEO
REFRESH-INTERVAL;VALUE=DURATION:PT1H
X-Robots-Tag:noindex
X-PUBLISHED-TTL:PT1H
BEGIN:VTIMEZONE
TZID:UTC
BEGIN:STANDARD
TZOFFSETFROM:+0000
TZOFFSETTO:+0000
TZNAME:UTC
DTSTART:20190101T000000
END:STANDARD
END:VTIMEZONE
BEGIN:VEVENT
DTSTART;TZID=UTC:20190228T083000
DTEND;TZID=UTC:20190228T163000
DTSTAMP:20260422T061640
CREATED:20190104T101651Z
LAST-MODIFIED:20190104T101651Z
UID:12169-1551342600-1551371400@www.fapeo.be
SUMMARY:Forum - Vers une école inclusive\, des pistes pour relever le défi
DESCRIPTION:
URL:https://www.fapeo.be/event/forum-vers-une-ecole-inclusive-des-pistes-pour-relever-le-defi/
LOCATION:ULB\, Avenue F. Roosevelt 50\, Bruxelles\, 1050
CATEGORIES:Evénements à venir à Bruxelles
END:VEVENT
END:VCALENDAR