BEGIN:VCALENDAR
VERSION:2.0
PRODID:-//FAPEO - ECPv6.6.4.2//NONSGML v1.0//EN
CALSCALE:GREGORIAN
METHOD:PUBLISH
X-ORIGINAL-URL:https://www.fapeo.be
X-WR-CALDESC:évènements pour FAPEO
REFRESH-INTERVAL;VALUE=DURATION:PT1H
X-Robots-Tag:noindex
X-PUBLISHED-TTL:PT1H
BEGIN:VTIMEZONE
TZID:UTC
BEGIN:STANDARD
TZOFFSETFROM:+0000
TZOFFSETTO:+0000
TZNAME:UTC
DTSTART:20190101T000000
END:STANDARD
END:VTIMEZONE
BEGIN:VEVENT
DTSTART;TZID=UTC:20190503T180000
DTEND;TZID=UTC:20190503T210000
DTSTAMP:20260422T010710
CREATED:20190320T082556Z
LAST-MODIFIED:20190320T082556Z
UID:12314-1556906400-1556917200@www.fapeo.be
SUMMARY:Élections 2019 : Le 3 mai 2019 AdopteUnePolitique !
DESCRIPTION:Rejoignez-nous à la Tour à Plomb et venez refaire l’école avec les candidat.e.s aux élections 2019. \n#LesPolitiquesNeMordentPas \nAmbiance assurée 😉 \nRéservation souhaitée : bruxelles@fapeo.be \n\n\n\n\n\n\n\n\n\n\nTélécharger l’affiche  : Le 3 mai AdopteUnePolitique  \nTélécharger notre Mémorandum  FAPEO 2019  \n 
URL:https://www.fapeo.be/event/elections-2019/
LOCATION:La Tour à Plomb\, Rue de l’abattoir 24\, Bruxelles\, 1000\, Belgique
CATEGORIES:Activités AP Bruxelles,Evénements à venir à Bruxelles
END:VEVENT
END:VCALENDAR