BEGIN:VCALENDAR
VERSION:2.0
PRODID:-//FAPEO - ECPv6.6.4.2//NONSGML v1.0//EN
CALSCALE:GREGORIAN
METHOD:PUBLISH
X-WR-CALNAME:FAPEO
X-ORIGINAL-URL:https://www.fapeo.be
X-WR-CALDESC:évènements pour FAPEO
REFRESH-INTERVAL;VALUE=DURATION:PT1H
X-Robots-Tag:noindex
X-PUBLISHED-TTL:PT1H
BEGIN:VTIMEZONE
TZID:UTC
BEGIN:STANDARD
TZOFFSETFROM:+0000
TZOFFSETTO:+0000
TZNAME:UTC
DTSTART:20160101T000000
END:STANDARD
END:VTIMEZONE
BEGIN:VEVENT
DTSTART;TZID=UTC:20160817T201500
DTEND;TZID=UTC:20160817T220000
DTSTAMP:20260425T185344
CREATED:20160609T065558Z
LAST-MODIFIED:20160609T065558Z
UID:10092-1471464900-1471471200@www.fapeo.be
SUMMARY:Conférence CGé - Fermer les écoles ghettos ou donner plus à ceux qui ont moins ?
DESCRIPTION:17/08/2016 – 20h15 – Wépion (La Marlagne) \nÇa fait plus de 30 ans qu’on donne un peu plus à ceux qui ont moins et ça ne donne rien\, sinon bonne conscience … \nMarc Demeuse nous invite à une réflexion décapante sur la question de l’encadrement différencié : dans le système scolaire actuel\, où et comment agir dans\nla différenciation des moyens octroyés pour réduire les inégalités ? \nPsychologue et statisticien\, Marc Demeuse est professeur à l’Université de Mons (Belgique)\, en Faculté de psychologie et des sciences de l’éducation. Il y\ndirige l’Institut d’administration scolaire. \nConférence organisée dans le cadre des 45 es Rencontres Pédagogiques d’été \nInformations \n17/08/2016 à 20h15 \nLa Marlagne – Centre Culturel Marcel Dicter – Chemin des Marronniers\, 26 – 5100 – Wépion – Tél. : 081 46 05 36 \nOuverte à tous (pas uniquement réservée aux participants des 45 es RPé) \nEntrée libre \nCGé\, ChanGements pour l’égalité\, mouvement sociopédagogique. \nChaussée d’Haecht\, 66 – 1210 Bruxelles \nwww.changement-egalite.be \nTél. : 02 218 34 50 \nFax : 02 218 49 67 \ninfo@changement-egalite.be \n 
URL:https://www.fapeo.be/event/conference-cge-fermer-les-ecoles-ghettos-ou-donner-plus-a-ceux-qui-ont-moins/
LOCATION:La Marlagne\, Chemin des Marronniers 26\, Wépion\, 5100
CATEGORIES:Conférences/Colloques/Journées d'études
END:VEVENT
END:VCALENDAR