BEGIN:VCALENDAR
VERSION:2.0
PRODID:-//FAPEO - ECPv6.6.4.2//NONSGML v1.0//EN
CALSCALE:GREGORIAN
METHOD:PUBLISH
X-WR-CALNAME:FAPEO
X-ORIGINAL-URL:https://www.fapeo.be
X-WR-CALDESC:évènements pour FAPEO
REFRESH-INTERVAL;VALUE=DURATION:PT1H
X-Robots-Tag:noindex
X-PUBLISHED-TTL:PT1H
BEGIN:VTIMEZONE
TZID:UTC
BEGIN:STANDARD
TZOFFSETFROM:+0000
TZOFFSETTO:+0000
TZNAME:UTC
DTSTART:20180101T000000
END:STANDARD
END:VTIMEZONE
BEGIN:VEVENT
DTSTART;TZID=UTC:20180322T200000
DTEND;TZID=UTC:20180322T213000
DTSTAMP:20260422T074756
CREATED:20180129T134319Z
LAST-MODIFIED:20180129T134319Z
UID:11517-1521748800-1521754200@www.fapeo.be
SUMMARY:Conférence gratuite : « COMPRENDRE LES TROUBLES  ALIMENTAIRES »
DESCRIPTION:« Comprendre les troubles alimentaires »  \nSonia FUCHS\, médecin psychiatre\, coordinatrice de la Clinique des troubles des conduites alimentaires du CHC de Liège. \nÉchanges avec le public à l’issue de la conférence.\nEn collaboration avec l’Openado.\nRésumé de la conférence :\nL’anorexie\, la boulimie\, l’hyperphagie alimentaire sont des troubles complexes nécessitant une identification précoce ainsi qu’une prise en charge spécialisée et multidisciplinaire.\nCes problématiques sont en augmentation au sein de notre société qui éprouve de nombreuses difficultés dans ses repères à la bonne alimentation. Une meilleure connaissance\, un repérage précoce de ces maladies sont des éléments importants pour le devenir des jeunes adolescents et pour leur famille. Les proches ont par ailleurs un rôle essentiel dans la guérison de ces adolescents et jeunes adultes. Pour mieux comprendre les différents troubles alimentaires\, n’hésitez- pas à nous rejoindre à ce Jeudi Santé.\nS’informer\, c’est bon pour la Santé ! \nInformation(s) pratique(s)\nConférences gratuites et ouvertes à tous\, sur inscription au 04/237 93 36 ou via mail à frederic.lekeu@provincedeliege.be\nSite :  http://www.provincedeliege.be/fr/evenement/69/12917 \n 
URL:https://www.fapeo.be/event/conference-gratuite-comprendre-les-troubles-alimentaires/
CATEGORIES:Evénements à venir Liège
END:VEVENT
END:VCALENDAR